BEGIN:VCALENDAR
VERSION:2.0
PRODID:-//Gillman Livestock - ECPv6.0.6.2//NONSGML v1.0//EN
CALSCALE:GREGORIAN
METHOD:PUBLISH
X-WR-CALNAME:Gillman Livestock
X-ORIGINAL-URL:https://gillmanlivestock.com
X-WR-CALDESC:Events for Gillman Livestock
REFRESH-INTERVAL;VALUE=DURATION:PT1H
X-Robots-Tag:noindex
X-PUBLISHED-TTL:PT1H
BEGIN:VTIMEZONE
TZID:UTC
BEGIN:STANDARD
TZOFFSETFROM:+0000
TZOFFSETTO:+0000
TZNAME:UTC
DTSTART:20230101T000000
END:STANDARD
END:VTIMEZONE
BEGIN:VEVENT
DTSTART;VALUE=DATE:20230204
DTEND;VALUE=DATE:20230205
DTSTAMP:20260425T105514
CREATED:20221115T142438Z
LAST-MODIFIED:20221115T143841Z
UID:930-1675468800-1675555199@gillmanlivestock.com
SUMMARY:Burton Simmental bull sale in Duchesne Ut
DESCRIPTION:
URL:https://gillmanlivestock.com/event/burton-simmental-bull-sale-in-duchesne-ut/
LOCATION:Duchesne Ut\, Duchesne Ut\, Duchesne Ut\, UT\, United States
END:VEVENT
END:VCALENDAR