BEGIN:VCALENDAR
VERSION:2.0
PRODID:-//Gillman Livestock - ECPv6.0.6.2//NONSGML v1.0//EN
CALSCALE:GREGORIAN
METHOD:PUBLISH
X-ORIGINAL-URL:https://gillmanlivestock.com
X-WR-CALDESC:Events for Gillman Livestock
REFRESH-INTERVAL;VALUE=DURATION:PT1H
X-Robots-Tag:noindex
X-PUBLISHED-TTL:PT1H
BEGIN:VTIMEZONE
TZID:UTC
BEGIN:STANDARD
TZOFFSETFROM:+0000
TZOFFSETTO:+0000
TZNAME:UTC
DTSTART:20240101T000000
END:STANDARD
END:VTIMEZONE
BEGIN:VEVENT
DTSTART;VALUE=DATE:20240323
DTEND;VALUE=DATE:20240324
DTSTAMP:20260424T145411
CREATED:20240105T043519Z
LAST-MODIFIED:20240105T043519Z
UID:1146-1711152000-1711238399@gillmanlivestock.com
SUMMARY:R & R Genetics Bull Sale
DESCRIPTION:
URL:https://gillmanlivestock.com/event/r-r-genetics-bull-sale/
LOCATION:Willard Utah
END:VEVENT
END:VCALENDAR