BEGIN:VCALENDAR
VERSION:2.0
PRODID:-//Gillman Livestock - ECPv6.0.6.2//NONSGML v1.0//EN
CALSCALE:GREGORIAN
METHOD:PUBLISH
X-ORIGINAL-URL:https://gillmanlivestock.com
X-WR-CALDESC:Events for Gillman Livestock
REFRESH-INTERVAL;VALUE=DURATION:PT1H
X-Robots-Tag:noindex
X-PUBLISHED-TTL:PT1H
BEGIN:VTIMEZONE
TZID:UTC
BEGIN:STANDARD
TZOFFSETFROM:+0000
TZOFFSETTO:+0000
TZNAME:UTC
DTSTART:20250101T000000
END:STANDARD
END:VTIMEZONE
BEGIN:VEVENT
DTSTART;TZID=UTC:20250228T170000
DTEND;TZID=UTC:20250228T190000
DTSTAMP:20260423T193803
CREATED:20250102T000446Z
LAST-MODIFIED:20250102T000446Z
UID:1234-1740762000-1740769200@gillmanlivestock.com
SUMMARY:Intermountain Genetic Alliance Bull Sale
DESCRIPTION:
URL:https://gillmanlivestock.com/event/intermountain-genetic-alliance-bull-sale-2/
LOCATION:Heber City Utah
END:VEVENT
END:VCALENDAR