BEGIN:VCALENDAR
VERSION:2.0
PRODID:-//Gillman Livestock - ECPv6.0.6.2//NONSGML v1.0//EN
CALSCALE:GREGORIAN
METHOD:PUBLISH
X-WR-CALNAME:Gillman Livestock
X-ORIGINAL-URL:https://gillmanlivestock.com
X-WR-CALDESC:Events for Gillman Livestock
REFRESH-INTERVAL;VALUE=DURATION:PT1H
X-Robots-Tag:noindex
X-PUBLISHED-TTL:PT1H
BEGIN:VTIMEZONE
TZID:UTC
BEGIN:STANDARD
TZOFFSETFROM:+0000
TZOFFSETTO:+0000
TZNAME:UTC
DTSTART:20250101T000000
END:STANDARD
END:VTIMEZONE
BEGIN:VEVENT
DTSTART;TZID=UTC:20250317T110000
DTEND;TZID=UTC:20250317T150000
DTSTAMP:20260423T212905
CREATED:20250102T001104Z
LAST-MODIFIED:20250102T001104Z
UID:1236-1742209200-1742223600@gillmanlivestock.com
SUMMARY:Angus In The Basin Bull Sale
DESCRIPTION:
URL:https://gillmanlivestock.com/event/angus-in-the-basin-bull-sale/
LOCATION:Duchesne Ut\, Duchesne Ut\, Duchesne Ut\, UT\, United States
END:VEVENT
BEGIN:VEVENT
DTSTART;TZID=UTC:20250322T110000
DTEND;TZID=UTC:20250322T150000
DTSTAMP:20260423T212905
CREATED:20250102T001346Z
LAST-MODIFIED:20250102T001346Z
UID:1238-1742641200-1742655600@gillmanlivestock.com
SUMMARY:R & R Genetics Bull Sale
DESCRIPTION:
URL:https://gillmanlivestock.com/event/r-r-genetics-bull-sale-2/
LOCATION:Willard Utah
END:VEVENT
END:VCALENDAR