BEGIN:VCALENDAR
VERSION:2.0
PRODID:-//Gillman Livestock - ECPv6.0.6.2//NONSGML v1.0//EN
CALSCALE:GREGORIAN
METHOD:PUBLISH
X-WR-CALNAME:Gillman Livestock
X-ORIGINAL-URL:https://gillmanlivestock.com
X-WR-CALDESC:Events for Gillman Livestock
REFRESH-INTERVAL;VALUE=DURATION:PT1H
X-Robots-Tag:noindex
X-PUBLISHED-TTL:PT1H
BEGIN:VTIMEZONE
TZID:UTC
BEGIN:STANDARD
TZOFFSETFROM:+0000
TZOFFSETTO:+0000
TZNAME:UTC
DTSTART:20220101T000000
END:STANDARD
END:VTIMEZONE
BEGIN:VEVENT
DTSTART;VALUE=DATE:20221120
DTEND;VALUE=DATE:20221121
DTSTAMP:20260424T135215
CREATED:20221115T141636Z
LAST-MODIFIED:20221115T141712Z
UID:923-1668902400-1668988799@gillmanlivestock.com
SUMMARY:Dec 20\, 2022 bull weigh in.
DESCRIPTION:
URL:https://gillmanlivestock.com/event/dec-20-2022-bull-weigh-in/
LOCATION:UT
END:VEVENT
END:VCALENDAR